Workbook

Sheet ΑΝΑΛΥΤΙΚΟΣ ΠΙΝΑΚΑΣ
A1: ΟΜΑΔΑ 1 : ΠΡΟΜΗΘΕΙΑ ΕΙΔΩΝ ΣΙΤΙΣΗΣ ΓΙΑ ΤΙΣ ΑΝΑΓΚΕΣ ΤΗΣ ΔΙΕΥΘΥΝΣΗΣ ΠΡΟΣΧΟΣΧΟΛΙΚΗΣ ΑΓΩΓΗΣ,ΠΡΟΓΡΑΜΜΑΤΩΝ ΠΑΙΔΙΟΥ, ΑΜΕΑ & ΤΡΙΤΗΣ ΗΛΙΚΙΑΣ (ΠΡΩΗΝ ΚΟΙ.Π.Α) ΔΗΜΟΥ ΑΓΡΙΝΙΟΥ
B2: ΤΜΗΜΑ 1 : ΕΙΔΗ ΠΑΝΤΟΠΩΛΕΙΟΥ (CPV : 15000000-8)
A3: Α/Α | B3: ΕΙΔΟΣ ΤΡΟΦΙΜΩΝ | C3: ΣΥΣΚΕΥΑΣΙΑ | D3: ΜΟΝΑΔΑ ΜΕΤΡΗΣΗΣ | E3: ΠΟΣΟΤΗΤΑ | F3: ΤΙΜΗ ΜΟΝΑΔΑΣ | H3: ΚΑΘΑΡΟ ΠΟΣΟ | I3: ΠΟΣΟ ΦΠΑ | J3: ΣΥΝΟΛΟ
A4: 1 | B4: ΑΛΑΤΙ ΗΜΙΧΟΝΔΡΟ | C4: ΣΥΣΚΕΥΑΣΙΑ ΚΙΛΟΥ | D4: ΣΥΣΚΕΥΑΣΙΑ | E4: 1200 | H4: =F4*E4 -> 0 | I4: =H4*13/100 -> 0 | J4: =I4+H4 -> 0
A5: 2 | B5: ΑΛΕΥΡΙ ΟΛΙΚΗΣ ΑΛΕΣΗΣ | C5: ΣΥΣΚΕΥΑΣΙΑ ΚΙΛΟΥ | D5: ΣΥΣΚΕΥΑΣΙΑ | E5: 1100 | H5: =F5*E5 -> 0 | I5: =H5*13/100 -> 0 | J5: =I5+H5 -> 0
A6: 3 | B6: ΑΛΕΥΡΙ ΦΑΡΙΝΑ ΠΟΥ ΦΟΥΣΚΩΝΕΙ ΜΟΝΟ ΤΟΥ ΟΛΙΚΗΣ, ΠΑΚΕΤΟ 500ΓΡ. | C6: ΣΥΣΚΕΥΑΣΙΑ 500ΓΡ | D6: ΣΥΣΚΕΥΑΣΙΑ | E6: 1500 | H6: =F6*E6 -> 0 | I6: =H6*13/100 -> 0 | J6: =I6+H6 -> 0
A7: 4 | B7: ΑΥΓΑ 53 – 63gr ΧΑΡΤΙΝΗ ΣΥΣΚΕΥΑΣΙΑ 6/10 ΤΕΜ | C7: ΧΑΡΤΙΝΗ ΣΥΣΚΕΥΑΣΙΑ 6/10 ΤΕΜ | D7: ΤΕΜΑΧΙΟ | E7: 26480 | H7: =F7*E7 -> 0 | I7: =H7*13/100 -> 0 | J7: =I7+H7 -> 0
A8: 5 | B8: ΒΑΝΙΛΙΕΣ ΦΑΚΕΛΑΚΙ ΣΥΣΚΕΥΑΣΙΑΣ (ΠΕΝΤΕ ΤΕΜΑΧΙΩΝ) (ΦΠΑ 24%) | C8: ΣΥΣΚΕΥΑΣΙΑ (ΠΕΝΤΕ ΤΕΜ) | D8: ΣΥΣΚΕΥΑΣΙΑ | E8: 944 | H8: =F8*E8 -> 0 | I8: =H8*24/100 -> 0 | J8: =I8+H8 -> 0
A9: 6 | B9: ΔΗΜΗΤΡΙΑΚΑ ΟΛΙΚΗΣ ΑΛΕΣΗΣ (χωρίς προσθήκης σοκολάτας ή μελιού) ΣΥΣΚΕΥΑΣΙΑ 375- 500 ΓΡ. | C9: ΣΥΣΚΕΥΑΣΙΑ 375- 500 ΓΡ. | D9: ΚΙΛΟ | E9: 762 | H9: =F9*E9 -> 0 | I9: =H9*13/100 -> 0 | J9: =I9+H9 -> 0
A10: 7 | B10: ΖΑΧΑΡΗ ΛΕΥΚΗ ΚΡΥΣΤΑΛΛΙΚΗ 1 ΚΙΛΟΥ | C10: ΣΥΣΚΕΥΑΣΙΑ ΚΙΛΟΥ | D10: ΚΙΛΟ | E10: 1000 | H10: =F10*E10 -> 0 | I10: =H10*13/100 -> 0 | J10: =I10+H10 -> 0
A11: 8 | B11: ΖΥΜΑΡΙΚΑ- ΚΡΙΘΑΡΑΚΙ ΜΕΤΡΙΟ ΟΛΙΚΗΣ ΠΑΚΕΤΟ 500 gr | C11: ΣΥΣΚΕΥΑΣΙΑ 500 ΓΡ. | D11: ΣΥΣΚΕΥΑΣΙΑ | E11: 3988 | H11: =F11*E11 -> 0 | I11: =H11*13/100 -> 0 | J11: =I11+H11 -> 0
A12: 9 | B12: ΖΥΜΑΡΙΚΑ -ΜΑΚΑΡΟΝΑΚΙ ΚΟΦΤΟ ΟΛΙΚΗΣ ΠΑΚΕΤΟ 500 ΓΡ. | C12: ΣΥΣΚΕΥΑΣΙΑ 500 gr | D12: ΣΥΣΚΕΥΑΣΙΑ | E12: 4070 | H12: =F12*E12 -> 0 | I12: =H12*13/100 -> 0 | J12: =I12+H12 -> 0
A13: 10 | B13: ΖΥΜΑΡΙΚΑ- ΜΑΚΑΡΟΝΙΑ ΟΛΙΚΗΣ Ν2 500gr | C13: ΣΥΣΚΕΥΑΣΙΑ 500 gr | D13: ΣΥΣΚΕΥΑΣΙΑ | E13: 2024 | H13: =F13*E13 -> 0 | I13: =H13*13/100 -> 0 | J13: =I13+H13 -> 0
A14: 11 | B14: ΚΟΡΝ ΦΛΑΟΥΕΡ (200 gr ή κατ΄ελάχιστον 200 gr) | C14: ΣΥΣΚΕΥΑΣΙΑ 200 ΓΡ Ή ΚΑΤ΄ΕΛΑΧΙΣΤΟΝ 200ΓΡ | D14: ΤΕΜΑΧΙΟ | E14: 418 | H14: =F14*E14 -> 0 | I14: =H14*13/100 -> 0 | J14: =I14+H14 -> 0
A15: 12 | B15: ΚΑΝΕΛΛΑ ΞΥΛΟ ΦΑΚΕΛΑΚΙ 50 gr | C15: ΣΥΣΚΕΥΑΣΙΑ 50ΓΡ | D15: ΤΕΜΑΧΙΟ | E15: 416 | H15: =F15*E15 -> 0 | I15: =H15*13/100 -> 0 | J15: =I15+H15 -> 0
A16: 13 | B16: ΚΑΝΕΛΛΑ ΤΡΙΜΕΝΗ ΦΑΚΕΛΑΚΙ 50gr | C16: ΣΥΣΚΕΥΑΣΙΑ 50ΓΡ | D16: ΤΕΜΑΧΙΟ | E16: 462 | H16: =F16*E16 -> 0 | I16: =H16*13/100 -> 0 | J16: =I16+H16 -> 0
A17: 14 | B17: ΚΑΡΑΜΕΛΕΣ GEL | C17: ΣΥΣΚΕΥΑΣΙΑ 1.000gr | D17: ΚΙΛΟ | E17: 352 | H17: =F17*E17 -> 0 | I17: =H17*13/100 -> 0 | J17: =I17+H17 -> 0
A18: 15 | B18: ΜΑΡΜΕΛΑΔΑ ΣΕ ΔΙΑΦΟΡΕΣ ΓΕΥΣΕΙΣ ΣΥΣΚΕΥΑΣΙΑ | C18: ΣΥΣΚΕΥΑΣΙΑ 370 ΓΡ-500ΓΡ | D18: ΚΙΛΟ | E18: 750 | H18: =F18*E18 -> 0 | I18: =H18*13/100 -> 0 | J18: =I18+H18 -> 0
A19: 16 | B19: ΜΕΛΙ ανθέων (900-1000 γρ) | C19: ΣΥΣΚΕΥΑΣΙΑ (900-1000 γρ) | D19: ΚΙΛΟ | E19: 880 | H19: =F19*E19 -> 0 | I19: =H19*13/100 -> 0 | J19: =I19+H19 -> 0
A20: 17 | B20: ΜΠΕΙΚΙΝ ΠΑΟΥΝΤΕΡ 20gr (ΣΥΣΚΕΥΑΣΙΑ 3 ΤΕΜΑΧΙΩΝ) | C20: ΦΑΚΕΛΑΚΙΑ ΤΩΝ 20ΓΡ ΣΥΣΚΕΥΑΣΙΑ 3 ΤΕΜ | D20: ΣΥΣΚΕΥΑΣΙΑ | E20: 1408 | H20: =F20*E20 -> 0 | I20: =H20*13/100 -> 0 | J20: =I20+H20 -> 0
... A47: 44 | B47: ΑΝΑΨΥΚΤΙΚΟ ΤΥΠΟΥ ΓΚΑΖΟΖΑ ΠΛΑΣΤΙΚΗ ΦΥΑΛΗ 1,5L | C47: ΠΛΑΣΤΙΚΗ ΦΥΑΛΗ 1,5L | D47: ΣΥΣΚΕΥΑΣΙΑ | E47: 150 | H47: =F47*E47 -> 0 | I47: =H47*13/100 -> 0 | J47: =I47+H47 -> 0
E48: ΣΥΝΟΛΑ ΤΜΗΜΑΤΟΣ 1 : | H48: =SUM(H4:H47) -> 0 | I48: =SUM(I4:I47) -> 0 | J48: =SUM(J4:J47) -> 0
B49: ΤΜΗΜΑ 2 : ΕΛΑΙΑ (CPV : 15411000-2)
A50: Α/Α | B50: ΕΙΔΟΣ ΤΡΟΦΙΜΩΝ | C50: ΣΥΣΚΕΥΑΣΙΑ | D50: ΜΟΝΑΔΑ ΜΕΤΡΗΣΗΣ | E50: ΠΟΣΟΤΗΤΑ | F50: ΤΙΜΗ ΜΟΝΑΔΑΣ | G50: ΠΟΣΟΣΤΟ ΕΚΠΤΩΣΗΣ | H50: ΚΑΘΑΡΟ ΠΟΣΟ | I50: ΠΟΣΟ ΦΠΑ | J50: ΣΥΝΟΛΟ
A51: 1 | B51: EXTRA ΠΑΡΘΕΝΟ | C51: ΣΥΣΚΕΥΑΣΙΑ 4 ΛΙΤΡΩΝ | D51: ΣΥΣΚΕΥΑΣΙΑ | E51: 1875 | F51: 24.39 | G51: 0.1 | H51: =(E51*F51)-(F51*E51)*G51 -> 41158.125 | I51: =H51*13/100 -> 5350.5562 | J51: =I51+H51 -> 46508.681
E52: ΣΥΝΟΛΟ ΤΜΗΜΑΤΟΣ 2 : | H52: =$H$51 -> 41158.125 | I52: =$I$51 -> 5350.5562 | J52: =$J$51 -> 46508.681
B53: ΤΜΗΜΑ 3 : ΓΑΛΑΚΤΟΚΟΜΙΚΑ -ΤΥΡΟΚΟΜΙΚΑ ΕΙΔΗ (CPV : 15500000—3)
A54: Α/Α | B54: ΕΙΔΟΣ ΤΡΟΦΙΜΩΝ | C54: ΣΥΣΚΕΥΑΣΙΑ | D54: ΜΟΝΑΔΑ ΜΕΤΡΗΣΗΣ | E54: ΠΟΣΟΤΗΤΑ | F54: ΤΙΜΗ ΜΟΝΑΔΑΣ | H54: ΚΑΘΑΡΟ ΠΟΣΟ | I54: ΠΟΣΟ ΦΠΑ | J54: ΣΥΝΟΛΟ
A55: 1 | B55: ΓΡΑΒΙΕΡΑ | D55: ΚΙΛΟ | E55: 800 | H55: =F55*E55 -> 0 | I55: =H55*13/100 -> 0 | J55: =I55+H55 -> 0
A56: 2 | B56: ΦΕΤΑ ΠΟΠ ΣΚΛΗΡΗ ΣΕ ΆΛΜΗ | D56: ΚΙΛΟ | E56: 2618 | H56: =F56*E56 -> 0 | I56: =H56*13/100 -> 0 | J56: =I56+H56 -> 0
A57: 3 | B57: ΗΜΙΣΚΛΗΡΟ ΤΥΡΙ ΤΥΠΟΥ ΚΑΣΕΡΙ | D57: ΚΙΛΟ | E57: 1221 | H57: =F57*E57 -> 0 | I57: =H57*13/100 -> 0 | J57: =I57+H57 -> 0
A58: 4 | B58: ΓΙΑΟΥΡΤΑΚΙΑ (πρόβειο ή αγελαδινό) 200gr | C58: ΚΕΣΕΔΑΚΙ 200 ΓΡ | D58: ΤΕΜΑΧΙΟ | E58: 13592 | H58: =F58*E58 -> 0 | I58: =H58*13/100 -> 0 | J58: =I58+H58 -> 0
A59: 5 | B59: ΓΑΛΑ ΜΑΚΡΑΣ ΔΙΑΡΚΕΙΑΣ | C59: ΛΙΤΡΟ | D59: ΛΙΤΡΟ | E59: 7000 | H59: =F59*E59 -> 0 | I59: =H59*13/100 -> 0 | J59: =I59+H59 -> 0
E60: ΣΥΝΟΛΑ ΤΜΗΜΑΤΟΣ 3 : | H60: =SUM(H55:H59) -> 0 | I60: =SUM(I55:I59) -> 0 | J60: =SUM(J55:J59) -> 0
B61: TMHMA 4 : ΚΑΤΕΨΥΓΜΕΝΑ ΛΑΧΑΝΙΚΑ (CPV : 15000000-8)
A62: Α/Α | B62: ΕΙΔΟΣ ΤΡΟΦΙΜΩΝ | C62: ΣΥΣΚΕΥΑΣΙΑ | D62: ΜΟΝΑΔΑ ΜΕΤΡΗΣΗΣ | E62: ΠΟΣΟΤΗΤΑ | F62: ΤΙΜΗ ΜΟΝΑΔΑΣ | G62: ΠΟΣΟΣΤΟ ΕΚΠΤΩΣΗΣ | H62: ΚΑΘΑΡΟ ΠΟΣΟ | I62: ΠΟΣΟ ΦΠΑ | J62: ΣΥΝΟΛΟ
A63: 1 | B63: ΦΑΣΟΛΑΚΙΑ ΣΤΡΟΓΓΥΛΑ Ή ΠΛΑΤΙΑ ΚΑΤΕΨΥΓΜΕΝΑ | C63: ΑΝΑΛΟΓΑ ΜΕ ΤΙΣ ΑΝΑΓΚΕΣ | D63: ΚΙΛΟ | E63: 1500 | F63: 2.04 | H63: =(E63*F63)-(F63*E63)*G63 -> 3060 | I63: =H63*13/100 -> 397.8 | J63: =I63+H63 -> 3457.8
A64: 2 | B64: ΑΡΑΚΑΣ ΚΑΤ/ΝΟΣ | C64: ΑΝΑΛΟΓΑ ΜΕ ΤΙΣ ΑΝΑΓΚΕΣ | D64: ΚΙΛΟ | E64: 2500 | F64: 1.96 | H64: =(E64*F64)-(F64*E64)*G64 -> 4900 | I64: =H64*13/100 -> 637 | J64: =I64+H64 -> 5537
A65: 3 | B65: ΨΑΡΙΑ ΚΑΤ/ΝΑ ΠΕΡΚΑ | C65: ΑΝΑΛΟΓΑ ΜΕ ΤΙΣ ΑΝΑΓΚΕΣ | D65: ΚΙΛΟ | E65: 3000 | F65: 11.87 | H65: =(E65*F65)-(F65*E65)*G65 -> 35610 | I65: =H65*13/100 -> 4629.3 | J65: =I65+H65 -> 40239.3
E66: ΣΥΝΟΛΑ ΤΜΗΜΑΤΟΣ 4 : | H66: =SUM(H63:H65) -> 43570 | I66: =SUM(I63:I65) -> 5664.1 | J66: =SUM(J63:J65) -> 49234.1
...

Sheet ΣΥΝΟΠΤΙΚΟΣ
A1: ΟΜΑΔΑ 1: ΕΙΔΗ ΣΙΤΙΣΗΣ ΓΙΑ ΤΙΣ ΑΝΑΓΚΕΣ ΤΗΣ Δ/ΝΣΗΣ ΠΡΟΣΧΟΣΧΟΛΙΚΗΣ ΑΓΩΓΗΣ,ΠΡΟΓΡΑΜΜΑΤΩΝ ΠΑΙΔΙΟΥ, ΑΜΕΑ & ΤΡΙΤΗΣ ΗΛΙΚΙΑΣ (ΠΡΩΗΝ ΚΟΙ.Π.Α).
A2: A/A | B2: TMHMA | C2: ΚΑΘΑΡΟ ΠΟΣΟ | D2: ΠΟΣΟ ΦΠΑ | E2: ΣΥΝΟΛΟ
A3: 1 | B3: ΤΜΗΜΑ 1: ΕΙΔΗ ΠΑΝΤΟΠΩΛΕΙΟΥ - CPV:15000000-8 | C3: ='ΑΝΑΛΥΤΙΚΟΣ ΠΙΝΑΚΑΣ'!H48 -> 0 | D3: ='ΑΝΑΛΥΤΙΚΟΣ ΠΙΝΑΚΑΣ'!I48 -> 0 | E3: ='ΑΝΑΛΥΤΙΚΟΣ ΠΙΝΑΚΑΣ'!J48 -> 0
A4: 2 | B4: ΤΜΗΜΑ 2: ΕΛΑΙΑ - CPV:15411000-2 | C4: ='ΑΝΑΛΥΤΙΚΟΣ ΠΙΝΑΚΑΣ'!H52 -> 41158.125 | D4: ='ΑΝΑΛΥΤΙΚΟΣ ΠΙΝΑΚΑΣ'!I52 -> 5350.5562 | E4: ='ΑΝΑΛΥΤΙΚΟΣ ΠΙΝΑΚΑΣ'!J52 -> 46508.681
A5: 3 | B5: ΤΜΗΜΑ 3: ΓΑΛΑΚΤΟΚΟΜΙΚΑ -ΤΥΡΟΚΟΜΙΚΑ ΕΙΔΗ - CPV:15500000-3 | C5: ='ΑΝΑΛΥΤΙΚΟΣ ΠΙΝΑΚΑΣ'!H60 -> 0 | D5: ='ΑΝΑΛΥΤΙΚΟΣ ΠΙΝΑΚΑΣ'!I60 -> 0 | E5: ='ΑΝΑΛΥΤΙΚΟΣ ΠΙΝΑΚΑΣ'!J60 -> 0
A6: 4 | B6: ΤΜΗΜΑ 4: ΚΑΤΕΨΥΓΜΕΝΑ ΨΑΡΙΑ & ΛΑΧΑΝΙΚΑ - CPV:15000000-8 | C6: ='ΑΝΑΛΥΤΙΚΟΣ ΠΙΝΑΚΑΣ'!H66 -> 43570 | D6: ='ΑΝΑΛΥΤΙΚΟΣ ΠΙΝΑΚΑΣ'!I66 -> 5664.1 | E6: ='ΑΝΑΛΥΤΙΚΟΣ ΠΙΝΑΚΑΣ'!J66 -> 49234.1
A7: 5 | B7: ΤΜΗΜΑ 5: ΕΙΔΗ ΚΡΕΟΠΩΛΕΙΟΥ - CPV:15110000-2 | C7: ='ΑΝΑΛΥΤΙΚΟΣ ΠΙΝΑΚΑΣ'!H72 -> 119125 | D7: ='ΑΝΑΛΥΤΙΚΟΣ ΠΙΝΑΚΑΣ'!I72 -> 15486.25 | E7: ='ΑΝΑΛΥΤΙΚΟΣ ΠΙΝΑΚΑΣ'!J72 -> 134611.25
A8: 6 | B8: ΤΜΗΜΑ 6: ΕΙΔΗ ΑΡΤΟΠΟΙΕΙΟΥ - CPV:15810000-9 | C8: ='ΑΝΑΛΥΤΙΚΟΣ ΠΙΝΑΚΑΣ'!H78 -> 0 | D8: ='ΑΝΑΛΥΤΙΚΟΣ ΠΙΝΑΚΑΣ'!I78 -> 0 | E8: ='ΑΝΑΛΥΤΙΚΟΣ ΠΙΝΑΚΑΣ'!J78 -> 0
A9: 7 | B9: ΤΜΗΜΑ 7: ΕΙΔΗ ΟΠΩΡΟΠΟΛΕΙΟΥ (ΦΡΟΥΤΑ & ΛΑΧΑΝΙΚΑ) - CPV:03220000-9 | C9: ='ΑΝΑΛΥΤΙΚΟΣ ΠΙΝΑΚΑΣ'!H112 -> 94047.09 | D9: ='ΑΝΑΛΥΤΙΚΟΣ ΠΙΝΑΚΑΣ'!I112 -> 12226.122 | E9: ='ΑΝΑΛΥΤΙΚΟΣ ΠΙΝΑΚΑΣ'!J112 -> 106273.21
B10: ΣΥΝΟΛΟ ΟΜΑΔΑΣ 1: | C10: =SUM(C3:C9) -> 297900.22 | D10: =SUM(D3:D9) -> 38727.028 | E10: =SUM(E3:E9) -> 336627.24
A11: ΟΜΑΔΑ 2 : ΠΡΟΜΗΘΕΙΑ ΕΙΔΩΝ ΣΙΤΙΣΗΣ ΓΙΑ ΤΙΣ ΑΝΑΓΚΕΣ ΤΟΥ ΞΕΝΩΝΑ ΓΥΝΑΙΚΩΝ ΘΥΜΑΤΩΝ ΒΙΑΣ
A12: A/A | B12: ΤΜΗΜΑ | C12: ΚΑΘΑΡΟ ΠΟΣΟ | D12: ΠΟΣΟ ΦΠΑ | E12: ΣΥΝΟΛΟ
A13: 1 | B13: ΤΜΗΜΑ1: ΕΙΔΗ ΠΑΝΤΟΠΩΛΕΙΟΥ - CPV:15000000-8 | C13: ='ΑΝΑΛΥΤΙΚΟΣ ΠΙΝΑΚΑΣ'!H159 -> 0 | D13: ='ΑΝΑΛΥΤΙΚΟΣ ΠΙΝΑΚΑΣ'!I159 -> 0 | E13: ='ΑΝΑΛΥΤΙΚΟΣ ΠΙΝΑΚΑΣ'!J159 -> 0
A14: 2 | B14: ΤΜΗΜΑ 2: ΕΛΑΙΑ - CPV:15411000-2 | C14: ='ΑΝΑΛΥΤΙΚΟΣ ΠΙΝΑΚΑΣ'!H164 -> 2951.25 | D14: ='ΑΝΑΛΥΤΙΚΟΣ ΠΙΝΑΚΑΣ'!I164 -> 383.6625 | E14: ='ΑΝΑΛΥΤΙΚΟΣ ΠΙΝΑΚΑΣ'!J164 -> 3334.9125
A15: 3 | B15: ΤΜΗΜΑ 3: ΓΑΛΑΚΤΟΚΟΜΙΚΑ - ΤΥΡΟΚΟΜΙΚΑ ΠΡΟΪΟΝΤΑ - CPV:15500000-3 | C15: ='ΑΝΑΛΥΤΙΚΟΣ ΠΙΝΑΚΑΣ'!H171 -> 0 | D15: ='ΑΝΑΛΥΤΙΚΟΣ ΠΙΝΑΚΑΣ'!I171 -> 0 | E15: ='ΑΝΑΛΥΤΙΚΟΣ ΠΙΝΑΚΑΣ'!J171 -> 0
A16: 4 | B16: ΤΜΗΜΑ 4: ΚΑΤΕΨΥΓΜΕΝΑ ΨΑΡΙΑ / ΛΑΧΑΝΙΚΑ - CPV:15000000-8 | C16: ='ΑΝΑΛΥΤΙΚΟΣ ΠΙΝΑΚΑΣ'!H178 -> 712.4 | D16: ='ΑΝΑΛΥΤΙΚΟΣ ΠΙΝΑΚΑΣ'!I178 -> 92.612 | E16: ='ΑΝΑΛΥΤΙΚΟΣ ΠΙΝΑΚΑΣ'!J178 -> 805.012
A17: 5 | B17: ΤΜΗΜΑ 5: ΕΙΔΗ ΚΡΕΟΠΩΛΕΙΟΥ - CPV:15110000-2 | C17: ='ΑΝΑΛΥΤΙΚΟΣ ΠΙΝΑΚΑΣ'!H187 -> 3426 | D17: ='ΑΝΑΛΥΤΙΚΟΣ ΠΙΝΑΚΑΣ'!I187 -> 445.38 | E17: ='ΑΝΑΛΥΤΙΚΟΣ ΠΙΝΑΚΑΣ'!J187 -> 3871.38
A18: 6 | B18: ΤΜΗΜΑ 6: ΕΙΔΗ ΟΠΩΡΟΠΩΛΕΙΟΥ (ΦΡΟΥΤΑ -ΛΑΧΑΝΙΚΑ) - CPV:03220000-9 | C18: ='ΑΝΑΛΥΤΙΚΟΣ ΠΙΝΑΚΑΣ'!H209 -> 2130.2 | D18: ='ΑΝΑΛΥΤΙΚΟΣ ΠΙΝΑΚΑΣ'!I209 -> 276.926 | E18: ='ΑΝΑΛΥΤΙΚΟΣ ΠΙΝΑΚΑΣ'!J209 -> 2407.126
A19: 7 | B19: ΤΜΗΜΑ 7 :ΨΩΜΙ - CPV:15811100-7 | C19: ='ΑΝΑΛΥΤΙΚΟΣ ΠΙΝΑΚΑΣ'!H213 -> 0 | D19: ='ΑΝΑΛΥΤΙΚΟΣ ΠΙΝΑΚΑΣ'!I213 -> 0 | E19: ='ΑΝΑΛΥΤΙΚΟΣ ΠΙΝΑΚΑΣ'!J213 -> 0
B20: ΣΥΝΟΛΟ ΟΜΑΔΑΣ 2: | C20: =SUM(C13:C19) -> 9219.85 | D20: =SUM(D13:D19) -> 1198.5805 | E20: =SUM(E13:E19) -> 10418.43
A21: ΟΜΑΔΑ 3 : ΠΡΟΜΗΘΕΙΑ ΕΙΔΩΝ ΣΙΤΙΣΗΣ ΓΙΑ ΤΙΣ ΑΝΑΓΚΕΣ ΤΗΣ ΔΟΜΗΣ ΠΑΡΟΧΗΣ ΣΙΣΙΤΙΟΥ ΔΗΜΟΥ ΑΓΡΙΝΙΟΥ
A22: A/A | B22: ΤΜΗΜΑ | C22: ΚΑΘΑΡΟ ΠΟΣΟ | D22: ΠΟΣΟ ΦΠΑ | E22: ΣΥΝΟΛΟ
A23: 1 | B23: ΤΜΗΜΑ 1: ΕΙΔΗ ΠΑΝΤΟΠΩΛΕΙΟΥ - CPV:15000000-8 | C23: ='ΑΝΑΛΥΤΙΚΟΣ ΠΙΝΑΚΑΣ'!H254 -> 0 | D23: ='ΑΝΑΛΥΤΙΚΟΣ ΠΙΝΑΚΑΣ'!I254 -> 0 | E23: ='ΑΝΑΛΥΤΙΚΟΣ ΠΙΝΑΚΑΣ'!J254 -> 0
A24: 2 | B24: ΤΜΗΜΑ 2: ΨΩΜΙ - CPV:15811100-7 | C24: ='ΑΝΑΛΥΤΙΚΟΣ ΠΙΝΑΚΑΣ'!H258 -> 0 | D24: ='ΑΝΑΛΥΤΙΚΟΣ ΠΙΝΑΚΑΣ'!I258 -> 0 | E24: ='ΑΝΑΛΥΤΙΚΟΣ ΠΙΝΑΚΑΣ'!J258 -> 0
A25: 3 | B25: ΤΜΗΜΑ 3: ΕΙΔΗ ΚΡΕΟΠΩΛΕΙΟΥ - CPV:15110000-2 | C25: ='ΑΝΑΛΥΤΙΚΟΣ ΠΙΝΑΚΑΣ'!H267 -> 41171 | D25: ='ΑΝΑΛΥΤΙΚΟΣ ΠΙΝΑΚΑΣ'!I267 -> 5352.23 | E25: ='ΑΝΑΛΥΤΙΚΟΣ ΠΙΝΑΚΑΣ'!J267 -> 46523.23
A26: 4 | B26: ΤΜΗΜΑ 4: ΚΑΤΕΨΥΓΜΕΝΑ ΨΑΡΙΑ / ΛΑΧΑΝΙΚΑ - CPV:15000000-8 | C26: ='ΑΝΑΛΥΤΙΚΟΣ ΠΙΝΑΚΑΣ'!H274 -> 2728.2 | D26: ='ΑΝΑΛΥΤΙΚΟΣ ΠΙΝΑΚΑΣ'!I274 -> 354.666 | E26: ='ΑΝΑΛΥΤΙΚΟΣ ΠΙΝΑΚΑΣ'!J274 -> 3082.866
A27: 5 | B27: ΤΜΗΜΑ 5: ΕΙΔΗ ΟΠΩΡΟΠΩΛΕΙΟΥ (ΦΡΟΥΤΑ -ΛΑΧΑΝΙΚΑ) - CPV:03220000-9 | C27: ='ΑΝΑΛΥΤΙΚΟΣ ΠΙΝΑΚΑΣ'!H291 -> 4363.8 | D27: ='ΑΝΑΛΥΤΙΚΟΣ ΠΙΝΑΚΑΣ'!I291 -> 567.294 | E27: ='ΑΝΑΛΥΤΙΚΟΣ ΠΙΝΑΚΑΣ'!J291 -> 4931.094
A28: 6 | B28: ΤΜΗΜΑ 6: ΈΛΑΙΑ - CPV:15411000-2 | C28: ='ΑΝΑΛΥΤΙΚΟΣ ΠΙΝΑΚΑΣ'!H295 -> 8092.5 | D28: ='ΑΝΑΛΥΤΙΚΟΣ ΠΙΝΑΚΑΣ'!I295 -> 1052.025 | E28: ='ΑΝΑΛΥΤΙΚΟΣ ΠΙΝΑΚΑΣ'!J295 -> 9144.525
B29: ΣΥΝΟΛΟ ΟΜΑΔΑΣ 3: | C29: =SUM(C23:C28) -> 56355.5 | D29: =SUM(D23:D28) -> 7326.215 | E29: =SUM(E23:E28) -> 63681.715
A30: ΟΜΑΔΑ 4:ΠΡΟΜΗΘΕΙΑ ΕΙΔΩΝ ΣΙΤΙΣΗΣ ΓΙΑ ΤΟ ΚΟΙΝΩΝΙΚΟ ΠΑΝΤΟΠΩΛΕΙΟ ΔΗΜΟΥ ΑΓΡΙΝΙΟΥ
A31: A/A | B31: ΤΜΗΜΑ | C31: ΚΑΘΑΡΟ ΠΟΣΟ | D31: ΠΟΣΟ ΦΠΑ | E31: ΣΥΝΟΛΟ
A32: 1 | B32: ΤΜΗΜΑ 1 : ΕΙΔΗ ΠΑΝΤΟΠΩΛΕΙΟΥ - CPV:15000000-8 | C32: ='ΑΝΑΛΥΤΙΚΟΣ ΠΙΝΑΚΑΣ'!H308 -> 0 | D32: ='ΑΝΑΛΥΤΙΚΟΣ ΠΙΝΑΚΑΣ'!I308 -> 0 | E32: ='ΑΝΑΛΥΤΙΚΟΣ ΠΙΝΑΚΑΣ'!J308 -> 0
A33: 2 | B33: ΤΜΗΜΑ 2 : ΟΣΠΡΙΑ - CPV:15000000-8 | C33: ='ΑΝΑΛΥΤΙΚΟΣ ΠΙΝΑΚΑΣ'!H314 -> 0 | D33: ='ΑΝΑΛΥΤΙΚΟΣ ΠΙΝΑΚΑΣ'!I314 -> 0 | E33: ='ΑΝΑΛΥΤΙΚΟΣ ΠΙΝΑΚΑΣ'!J314 -> 0
A34: 3 | B34: ΤΜΗΜΑ 3: ΕΙΔΗ ΚΡΕΟΠΩΛΕΙΟΥ - ΧΟΙΡΙΝΟ ΚΡΕΑΣ - CPV:15113000-3 | C34: ='ΑΝΑΛΥΤΙΚΟΣ ΠΙΝΑΚΑΣ'!H319 -> 100441.44 | D34: ='ΑΝΑΛΥΤΙΚΟΣ ΠΙΝΑΚΑΣ'!I319 -> 13057.387 | E34: ='ΑΝΑΛΥΤΙΚΟΣ ΠΙΝΑΚΑΣ'!J319 -> 113498.83
A35: 4 | B35: ΤΜΗΜΑ 4: ΕΙΔΗ ΚΡΕΟΠΩΛΕΙΟΥ -ΝΩΠΟ ΚΡΕΑΣ ΑΡΝΙ - CPV:15115100-8 | C35: ='ΑΝΑΛΥΤΙΚΟΣ ΠΙΝΑΚΑΣ'!H323 -> 236466.6 | D35: ='ΑΝΑΛΥΤΙΚΟΣ ΠΙΝΑΚΑΣ'!I323 -> 30740.658 | E35: ='ΑΝΑΛΥΤΙΚΟΣ ΠΙΝΑΚΑΣ'!J323 -> 267207.26
A36: 5 | B36: ΤΜΗΜΑ 5: ΕΙΔΗ ΚΡΕΟΠΩΛΕΙΟΥ -ΚΟΤΟΠΟΥΛΟ ΝΩΠΟ - CPV:15112130-6 | C36: ='ΑΝΑΛΥΤΙΚΟΣ ΠΙΝΑΚΑΣ'!H327 -> 43200 | D36: ='ΑΝΑΛΥΤΙΚΟΣ ΠΙΝΑΚΑΣ'!I327 -> 5616 | E36: ='ΑΝΑΛΥΤΙΚΟΣ ΠΙΝΑΚΑΣ'!J327 -> 48816
B37: ΣΥΝΟΛΟ ΟΜΑΔΑΣ 4: | C37: =SUM(C32:C36) -> 380108.04 | D37: =SUM(D32:D36) -> 49414.045 | E37: =SUM(E32:E36) -> 429522.09
A38: ΟΜΑΔΑ 5. ΠΡΟΜΗΘΕΙΑ ΤΡΟΦΙΜΩΝ ΓΙΑ ΤΗ ΔΙΟΡΓΑΝΩΣΗ ΕΚΔΗΛΩΣΕΩΝ (ΑΠΟΚΡΙΕΣ, ΚΟΥΛΟΥΜΑ , ΧΡΙΣΤΟΥΓΕΝΝΑ Κ.Λ.Π.)
A39: A/A | B39: TMHMA | C39: ΚΑΘΑΡΟ ΠΟΣΟ | D39: ΠΟΣΟ ΦΠΑ | E39: ΣΥΝΟΛΟ
A40: 1 | B40: ΤΜΗΜΑ 1: ΕΙΔΗ ΠΑΝΤΟΠΩΛΕΙΟΥ - CPV:15000000-8 | C40: ='ΑΝΑΛΥΤΙΚΟΣ ΠΙΝΑΚΑΣ'!H340 -> 0 | D40: ='ΑΝΑΛΥΤΙΚΟΣ ΠΙΝΑΚΑΣ'!I340 -> 0 | E40: ='ΑΝΑΛΥΤΙΚΟΣ ΠΙΝΑΚΑΣ'!J340 -> 0
...

Sheet ΕΓΓΥΗΣΗ ΣΥΜΜΕΤΟΧΗΣ
A1: ΟΜΑΔΑ 1: ΕΙΔΗ ΣΙΤΙΣΗΣ ΓΙΑ ΤΙΣ ΑΝΑΓΚΕΣ ΤΗΣ Δ/ΝΣΗΣ ΠΡΟΣΧΟΣΧΟΛΙΚΗΣ ΑΓΩΓΗΣ,ΠΡΟΓΡΑΜΜΑΤΩΝ ΠΑΙΔΙΟΥ, ΑΜΕΑ & ΤΡΙΤΗΣ ΗΛΙΚΙΑΣ (ΠΡΩΗΝ ΚΟΙ.Π.Α).
A2: A/A | B2: TMHMA | C2: ΚΑΘΑΡΟ ΠΟΣΟ | D2: ΕΓΓΥΗΣΗ ΣΥΜΜΕΤΟΧΗΣ
A3: 1 | B3: ΤΜΗΜΑ 1: ΕΙΔΗ ΠΑΝΤΟΠΩΛΕΙΟΥ - CPV:15000000-8 | C3: ='ΑΝΑΛΥΤΙΚΟΣ ΠΙΝΑΚΑΣ'!H48 -> 0 | D3: =C3*2% -> 0
A4: 2 | B4: ΤΜΗΜΑ 2: ΕΛΑΙΑ - CPV:15411000-2 | C4: ='ΑΝΑΛΥΤΙΚΟΣ ΠΙΝΑΚΑΣ'!H52 -> 41158.125 | D4: =C4*2% -> 823.1625
A5: 3 | B5: ΤΜΗΜΑ 3: ΓΑΛΑΚΤΟΚΟΜΙΚΑ -ΤΥΡΟΚΟΜΙΚΑ ΕΙΔΗ - CPV:15500000-3 | C5: ='ΑΝΑΛΥΤΙΚΟΣ ΠΙΝΑΚΑΣ'!H60 -> 0 | D5: =C5*2% -> 0
A6: 4 | B6: ΤΜΗΜΑ 4: ΚΑΤΕΨΥΓΜΕΝΑ ΨΑΡΙΑ & ΛΑΧΑΝΙΚΑ - CPV:15000000-8 | C6: ='ΑΝΑΛΥΤΙΚΟΣ ΠΙΝΑΚΑΣ'!H66 -> 43570 | D6: =C6*2% -> 871.4
A7: 5 | B7: ΤΜΗΜΑ 5: ΕΙΔΗ ΚΡΕΟΠΩΛΕΙΟΥ - CPV:15110000-2 | C7: ='ΑΝΑΛΥΤΙΚΟΣ ΠΙΝΑΚΑΣ'!H72 -> 119125 | D7: =C7*2% -> 2382.5
A8: 6 | B8: ΤΜΗΜΑ 6: ΕΙΔΗ ΑΡΤΟΠΟΙΕΙΟΥ - CPV:15810000-9 | C8: ='ΑΝΑΛΥΤΙΚΟΣ ΠΙΝΑΚΑΣ'!H78 -> 0 | D8: =C8*2% -> 0
A9: 7 | B9: ΤΜΗΜΑ 7: ΕΙΔΗ ΟΠΩΡΟΠΟΛΕΙΟΥ (ΦΡΟΥΤΑ & ΛΑΧΑΝΙΚΑ) - CPV:03220000-9 | C9: ='ΑΝΑΛΥΤΙΚΟΣ ΠΙΝΑΚΑΣ'!H112 -> 94047.09 | D9: =C9*2% -> 1880.9418
B10: ΣΥΝΟΛΟ ΟΜΑΔΑΣ 1: | C10: =SUM(C3:C9) -> 297900.22 | D10: =SUM(D3:D9) -> 5958.0043
A11: ΟΜΑΔΑ 2 : ΠΡΟΜΗΘΕΙΑ ΕΙΔΩΝ ΣΙΤΙΣΗΣ ΓΙΑ ΤΙΣ ΑΝΑΓΚΕΣ ΤΟΥ ΞΕΝΩΝΑ ΓΥΝΑΙΚΩΝ ΘΥΜΑΤΩΝ ΒΙΑΣ
A12: A/A | B12: ΤΜΗΜΑ | C12: ΚΑΘΑΡΟ ΠΟΣΟ | D12: ΕΓΓΥΗΣΗ ΣΥΜΜΕΤΟΧΗΣ
A13: 1 | B13: ΤΜΗΜΑ1: ΕΙΔΗ ΠΑΝΤΟΠΩΛΕΙΟΥ - CPV:15000000-8 | C13: ='ΑΝΑΛΥΤΙΚΟΣ ΠΙΝΑΚΑΣ'!H159 -> 0 | D13: =C13*2% -> 0
A14: 2 | B14: ΤΜΗΜΑ 2: ΕΛΑΙΑ - CPV:15411000-2 | C14: ='ΑΝΑΛΥΤΙΚΟΣ ΠΙΝΑΚΑΣ'!H164 -> 2951.25 | D14: =C14*2% -> 59.025
A15: 3 | B15: ΤΜΗΜΑ 3: ΓΑΛΑΚΤΟΚΟΜΙΚΑ - ΤΥΡΟΚΟΜΙΚΑ ΠΡΟΪΟΝΤΑ - CPV:15500000-3 | C15: ='ΑΝΑΛΥΤΙΚΟΣ ΠΙΝΑΚΑΣ'!H171 -> 0 | D15: =C15*2% -> 0
A16: 4 | B16: ΤΜΗΜΑ 4: ΚΑΤΕΨΥΓΜΕΝΑ ΨΑΡΙΑ / ΛΑΧΑΝΙΚΑ - CPV:15000000-8 | C16: ='ΑΝΑΛΥΤΙΚΟΣ ΠΙΝΑΚΑΣ'!H178 -> 712.4 | D16: =C16*2% -> 14.248
A17: 5 | B17: ΤΜΗΜΑ 5: ΕΙΔΗ ΚΡΕΟΠΩΛΕΙΟΥ - CPV:15110000-2 | C17: ='ΑΝΑΛΥΤΙΚΟΣ ΠΙΝΑΚΑΣ'!H187 -> 3426 | D17: =C17*2% -> 68.52
A18: 6 | B18: ΤΜΗΜΑ 6: ΕΙΔΗ ΟΠΩΡΟΠΩΛΕΙΟΥ (ΦΡΟΥΤΑ -ΛΑΧΑΝΙΚΑ) - CPV:03220000-9 | C18: ='ΑΝΑΛΥΤΙΚΟΣ ΠΙΝΑΚΑΣ'!H209 -> 2130.2 | D18: =C18*2% -> 42.604
A19: 7 | B19: ΤΜΗΜΑ 7 :ΨΩΜΙ - CPV:15811100-7 | C19: ='ΑΝΑΛΥΤΙΚΟΣ ΠΙΝΑΚΑΣ'!H213 -> 0 | D19: =C19*2% -> 0
B20: ΣΥΝΟΛΟ ΟΜΑΔΑΣ 2: | C20: =SUM(C13:C19) -> 9219.85 | D20: =SUM(D13:D19) -> 184.397
A21: ΟΜΑΔΑ 3 : ΠΡΟΜΗΘΕΙΑ ΕΙΔΩΝ ΣΙΤΙΣΗΣ ΓΙΑ ΤΙΣ ΑΝΑΓΚΕΣ ΤΗΣ ΔΟΜΗΣ ΠΑΡΟΧΗΣ ΣΙΣΙΤΙΟΥ ΔΗΜΟΥ ΑΓΡΙΝΙΟΥ
A22: A/A | B22: ΤΜΗΜΑ | C22: ΚΑΘΑΡΟ ΠΟΣΟ | D22: ΕΓΓΥΗΣΗ ΣΥΜΜΕΤΟΧΗΣ
A23: 1 | B23: ΤΜΗΜΑ 1: ΕΙΔΗ ΠΑΝΤΟΠΩΛΕΙΟΥ - CPV:15000000-8 | C23: ='ΑΝΑΛΥΤΙΚΟΣ ΠΙΝΑΚΑΣ'!H254 -> 0 | D23: =C23*2% -> 0
A24: 2 | B24: ΤΜΗΜΑ 2: ΨΩΜΙ - CPV:15811100-7 | C24: ='ΑΝΑΛΥΤΙΚΟΣ ΠΙΝΑΚΑΣ'!H258 -> 0 | D24: =C24*2% -> 0
A25: 3 | B25: ΤΜΗΜΑ 3: ΕΙΔΗ ΚΡΕΟΠΩΛΕΙΟΥ - CPV:15110000-2 | C25: ='ΑΝΑΛΥΤΙΚΟΣ ΠΙΝΑΚΑΣ'!H267 -> 41171 | D25: =C25*2% -> 823.42
A26: 4 | B26: ΤΜΗΜΑ 4: ΚΑΤΕΨΥΓΜΕΝΑ ΨΑΡΙΑ / ΛΑΧΑΝΙΚΑ - CPV:15000000-8 | C26: ='ΑΝΑΛΥΤΙΚΟΣ ΠΙΝΑΚΑΣ'!H274 -> 2728.2 | D26: =C26*2% -> 54.564
A27: 5 | B27: ΤΜΗΜΑ 5: ΕΙΔΗ ΟΠΩΡΟΠΩΛΕΙΟΥ (ΦΡΟΥΤΑ -ΛΑΧΑΝΙΚΑ) - CPV:03220000-9 | C27: ='ΑΝΑΛΥΤΙΚΟΣ ΠΙΝΑΚΑΣ'!H291 -> 4363.8 | D27: =C27*2% -> 87.276
A28: 6 | B28: ΤΜΗΜΑ 6: ΈΛΑΙΑ - CPV:15411000-2 | C28: ='ΑΝΑΛΥΤΙΚΟΣ ΠΙΝΑΚΑΣ'!H295 -> 8092.5 | D28: =C28*2% -> 161.85
B29: ΣΥΝΟΛΟ ΟΜΑΔΑΣ 3: | C29: =SUM(C23:C28) -> 56355.5 | D29: =SUM(D23:D28) -> 1127.11
A30: ΟΜΑΔΑ 4:ΠΡΟΜΗΘΕΙΑ ΕΙΔΩΝ ΣΙΤΙΣΗΣ ΓΙΑ ΤΟ ΚΟΙΝΩΝΙΚΟ ΠΑΝΤΟΠΩΛΕΙΟ ΔΗΜΟΥ ΑΓΡΙΝΙΟΥ
A31: A/A | B31: ΤΜΗΜΑ | C31: ΚΑΘΑΡΟ ΠΟΣΟ | D31: ΕΓΓΥΗΣΗ ΣΥΜΜΕΤΟΧΗΣ
A32: 1 | B32: ΤΜΗΜΑ 1 : ΕΙΔΗ ΠΑΝΤΟΠΩΛΕΙΟΥ - CPV:15000000-8 | C32: ='ΑΝΑΛΥΤΙΚΟΣ ΠΙΝΑΚΑΣ'!H308 -> 0 | D32: =C32*2% -> 0
A33: 2 | B33: ΤΜΗΜΑ 2 : ΟΣΠΡΙΑ - CPV:15000000-8 | C33: ='ΑΝΑΛΥΤΙΚΟΣ ΠΙΝΑΚΑΣ'!H314 -> 0 | D33: =C33*2% -> 0
A34: 3 | B34: ΤΜΗΜΑ 3: ΕΙΔΗ ΚΡΕΟΠΩΛΕΙΟΥ - ΧΟΙΡΙΝΟ ΚΡΕΑΣ - CPV:15113000-3 | C34: ='ΑΝΑΛΥΤΙΚΟΣ ΠΙΝΑΚΑΣ'!H319 -> 100441.44 | D34: =C34*2% -> 2008.8288
A35: 4 | B35: ΤΜΗΜΑ 4: ΕΙΔΗ ΚΡΕΟΠΩΛΕΙΟΥ -ΝΩΠΟ ΚΡΕΑΣ ΑΡΝΙ - CPV:15115100-8 | C35: ='ΑΝΑΛΥΤΙΚΟΣ ΠΙΝΑΚΑΣ'!H323 -> 236466.6 | D35: =C35*2% -> 4729.332
A36: 5 | B36: ΤΜΗΜΑ 5: ΕΙΔΗ ΚΡΕΟΠΩΛΕΙΟΥ -ΚΟΤΟΠΟΥΛΟ ΝΩΠΟ - CPV:15112130-6 | C36: ='ΑΝΑΛΥΤΙΚΟΣ ΠΙΝΑΚΑΣ'!H327 -> 43200 | D36: =C36*2% -> 864
B37: ΣΥΝΟΛΟ ΟΜΑΔΑΣ 4: | C37: =SUM(C32:C36) -> 380108.04 | D37: =SUM(D32:D36) -> 7602.1608
A38: ΟΜΑΔΑ 5. ΠΡΟΜΗΘΕΙΑ ΤΡΟΦΙΜΩΝ ΓΙΑ ΤΗ ΔΙΟΡΓΑΝΩΣΗ ΕΚΔΗΛΩΣΕΩΝ (ΑΠΟΚΡΙΕΣ, ΚΟΥΛΟΥΜΑ , ΧΡΙΣΤΟΥΓΕΝΝΑ Κ.Λ.Π.)
A39: A/A | B39: TMHMA | C39: ΚΑΘΑΡΟ ΠΟΣΟ | D39: ΕΓΓΥΗΣΗ ΣΥΜΜΕΤΟΧΗΣ
A40: 1 | B40: ΤΜΗΜΑ 1: ΕΙΔΗ ΠΑΝΤΟΠΩΛΕΙΟΥ - CPV:15000000-8 | C40: ='ΑΝΑΛΥΤΙΚΟΣ ΠΙΝΑΚΑΣ'!H340 -> 0 | D40: =C40*2% -> 0
...

Sheet ΕΓΓΥΗΣΗ ΚΑΛΗΣ ΕΚΤΕΛΕΣΗΣ
A1: ΟΜΑΔΑ 1: ΕΙΔΗ ΣΙΤΙΣΗΣ ΓΙΑ ΤΙΣ ΑΝΑΓΚΕΣ ΤΗΣ Δ/ΝΣΗΣ ΠΡΟΣΧΟΣΧΟΛΙΚΗΣ ΑΓΩΓΗΣ,ΠΡΟΓΡΑΜΜΑΤΩΝ ΠΑΙΔΙΟΥ, ΑΜΕΑ & ΤΡΙΤΗΣ ΗΛΙΚΙΑΣ (ΠΡΩΗΝ ΚΟΙ.Π.Α).
A2: A/A | B2: TMHMA | C2: ΚΑΘΑΡΟ ΠΟΣΟ | D2: ΕΓΓΥΗΣΗ ΚΑΛΗΣ ΕΚΤΕΛΕΣΗΣ
A3: 1 | B3: ΤΜΗΜΑ 1: ΕΙΔΗ ΠΑΝΤΟΠΩΛΕΙΟΥ - CPV:15000000-8 | C3: ='ΑΝΑΛΥΤΙΚΟΣ ΠΙΝΑΚΑΣ'!H48 -> 0 | D3: =C3*4% -> 0
A4: 2 | B4: ΤΜΗΜΑ 2: ΕΛΑΙΑ - CPV:15411000-2 | C4: ='ΑΝΑΛΥΤΙΚΟΣ ΠΙΝΑΚΑΣ'!H52 -> 41158.125 | D4: =C4*4% -> 1646.325
A5: 3 | B5: ΤΜΗΜΑ 3: ΓΑΛΑΚΤΟΚΟΜΙΚΑ -ΤΥΡΟΚΟΜΙΚΑ ΕΙΔΗ - CPV:15500000-3 | C5: ='ΑΝΑΛΥΤΙΚΟΣ ΠΙΝΑΚΑΣ'!H60 -> 0 | D5: =C5*4% -> 0
A6: 4 | B6: ΤΜΗΜΑ 4: ΚΑΤΕΨΥΓΜΕΝΑ ΨΑΡΙΑ & ΛΑΧΑΝΙΚΑ - CPV:15000000-8 | C6: ='ΑΝΑΛΥΤΙΚΟΣ ΠΙΝΑΚΑΣ'!H66 -> 43570 | D6: =C6*4% -> 1742.8
A7: 5 | B7: ΤΜΗΜΑ 5: ΕΙΔΗ ΚΡΕΟΠΩΛΕΙΟΥ - CPV:15110000-2 | C7: ='ΑΝΑΛΥΤΙΚΟΣ ΠΙΝΑΚΑΣ'!H72 -> 119125 | D7: =C7*4% -> 4765
A8: 6 | B8: ΤΜΗΜΑ 6: ΕΙΔΗ ΑΡΤΟΠΟΙΕΙΟΥ - CPV:15810000-9 | C8: ='ΑΝΑΛΥΤΙΚΟΣ ΠΙΝΑΚΑΣ'!H78 -> 0 | D8: =C8*4% -> 0
A9: 7 | B9: ΤΜΗΜΑ 7: ΕΙΔΗ ΟΠΩΡΟΠΟΛΕΙΟΥ (ΦΡΟΥΤΑ & ΛΑΧΑΝΙΚΑ) - CPV:03220000-9 | C9: ='ΑΝΑΛΥΤΙΚΟΣ ΠΙΝΑΚΑΣ'!H112 -> 94047.09 | D9: =C9*4% -> 3761.8836
B10: ΣΥΝΟΛΟ ΟΜΑΔΑΣ 1: | C10: =SUM(C3:C9) -> 297900.22 | D10: =SUM(D3:D9) -> 11916.009
A11: ΟΜΑΔΑ 2 : ΠΡΟΜΗΘΕΙΑ ΕΙΔΩΝ ΣΙΤΙΣΗΣ ΓΙΑ ΤΙΣ ΑΝΑΓΚΕΣ ΤΟΥ ΞΕΝΩΝΑ ΓΥΝΑΙΚΩΝ ΘΥΜΑΤΩΝ ΒΙΑΣ
A12: A/A | B12: ΤΜΗΜΑ | C12: ΚΑΘΑΡΟ ΠΟΣΟ | D12: ΕΓΓΥΗΣΗ ΚΑΛΗΣ ΕΚΤΕΛΕΣΗΣ
A13: 1 | B13: ΤΜΗΜΑ1: ΕΙΔΗ ΠΑΝΤΟΠΩΛΕΙΟΥ - CPV:15000000-8 | C13: ='ΑΝΑΛΥΤΙΚΟΣ ΠΙΝΑΚΑΣ'!H159 -> 0 | D13: =C13*4% -> 0
A14: 2 | B14: ΤΜΗΜΑ 2: ΕΛΑΙΑ - CPV:15411000-2 | C14: ='ΑΝΑΛΥΤΙΚΟΣ ΠΙΝΑΚΑΣ'!H164 -> 2951.25 | D14: =C14*4% -> 118.05
A15: 3 | B15: ΤΜΗΜΑ 3: ΓΑΛΑΚΤΟΚΟΜΙΚΑ - ΤΥΡΟΚΟΜΙΚΑ ΠΡΟΪΟΝΤΑ - CPV:15500000-3 | C15: ='ΑΝΑΛΥΤΙΚΟΣ ΠΙΝΑΚΑΣ'!H171 -> 0 | D15: =C15*4% -> 0
A16: 4 | B16: ΤΜΗΜΑ 4: ΚΑΤΕΨΥΓΜΕΝΑ ΨΑΡΙΑ / ΛΑΧΑΝΙΚΑ - CPV:15000000-8 | C16: ='ΑΝΑΛΥΤΙΚΟΣ ΠΙΝΑΚΑΣ'!H178 -> 712.4 | D16: =C16*4% -> 28.496
A17: 5 | B17: ΤΜΗΜΑ 5: ΕΙΔΗ ΚΡΕΟΠΩΛΕΙΟΥ - CPV:15110000-2 | C17: ='ΑΝΑΛΥΤΙΚΟΣ ΠΙΝΑΚΑΣ'!H187 -> 3426 | D17: =C17*4% -> 137.04
A18: 6 | B18: ΤΜΗΜΑ 6: ΕΙΔΗ ΟΠΩΡΟΠΩΛΕΙΟΥ (ΦΡΟΥΤΑ -ΛΑΧΑΝΙΚΑ) - CPV:03220000-9 | C18: ='ΑΝΑΛΥΤΙΚΟΣ ΠΙΝΑΚΑΣ'!H209 -> 2130.2 | D18: =C18*4% -> 85.208
A19: 7 | B19: ΤΜΗΜΑ 7 :ΨΩΜΙ - CPV:15811100-7 | C19: ='ΑΝΑΛΥΤΙΚΟΣ ΠΙΝΑΚΑΣ'!H213 -> 0 | D19: =C19*4% -> 0
B20: ΣΥΝΟΛΟ ΟΜΑΔΑΣ 2: | C20: =SUM(C13:C19) -> 9219.85 | D20: =SUM(D13:D19) -> 368.794
A21: ΟΜΑΔΑ 3 : ΠΡΟΜΗΘΕΙΑ ΕΙΔΩΝ ΣΙΤΙΣΗΣ ΓΙΑ ΤΙΣ ΑΝΑΓΚΕΣ ΤΗΣ ΔΟΜΗΣ ΠΑΡΟΧΗΣ ΣΙΣΙΤΙΟΥ ΔΗΜΟΥ ΑΓΡΙΝΙΟΥ
A22: A/A | B22: ΤΜΗΜΑ | C22: ΚΑΘΑΡΟ ΠΟΣΟ | D22: ΕΓΓΥΗΣΗ ΚΑΛΗΣ ΕΚΤΕΛΕΣΗΣ
A23: 1 | B23: ΤΜΗΜΑ 1: ΕΙΔΗ ΠΑΝΤΟΠΩΛΕΙΟΥ - CPV:15000000-8 | C23: ='ΑΝΑΛΥΤΙΚΟΣ ΠΙΝΑΚΑΣ'!H254 -> 0 | D23: =C23*4% -> 0
A24: 2 | B24: ΤΜΗΜΑ 2: ΨΩΜΙ - CPV:15811100-7 | C24: ='ΑΝΑΛΥΤΙΚΟΣ ΠΙΝΑΚΑΣ'!H258 -> 0 | D24: =C24*4% -> 0
A25: 3 | B25: ΤΜΗΜΑ 3: ΕΙΔΗ ΚΡΕΟΠΩΛΕΙΟΥ - CPV:15110000-2 | C25: ='ΑΝΑΛΥΤΙΚΟΣ ΠΙΝΑΚΑΣ'!H267 -> 41171 | D25: =C25*4% -> 1646.84
A26: 4 | B26: ΤΜΗΜΑ 4: ΚΑΤΕΨΥΓΜΕΝΑ ΨΑΡΙΑ / ΛΑΧΑΝΙΚΑ - CPV:15000000-8 | C26: ='ΑΝΑΛΥΤΙΚΟΣ ΠΙΝΑΚΑΣ'!H274 -> 2728.2 | D26: =C26*4% -> 109.128
A27: 5 | B27: ΤΜΗΜΑ 5: ΕΙΔΗ ΟΠΩΡΟΠΩΛΕΙΟΥ (ΦΡΟΥΤΑ -ΛΑΧΑΝΙΚΑ) - CPV:03220000-9 | C27: ='ΑΝΑΛΥΤΙΚΟΣ ΠΙΝΑΚΑΣ'!H291 -> 4363.8 | D27: =C27*4% -> 174.552
A28: 6 | B28: ΤΜΗΜΑ 6: ΈΛΑΙΑ - CPV:15411000-2 | C28: ='ΑΝΑΛΥΤΙΚΟΣ ΠΙΝΑΚΑΣ'!H295 -> 8092.5 | D28: =C28*4% -> 323.7
B29: ΣΥΝΟΛΟ ΟΜΑΔΑΣ 3: | C29: =SUM(C23:C28) -> 56355.5 | D29: =SUM(D23:D28) -> 2254.22
A30: ΟΜΑΔΑ 4:ΠΡΟΜΗΘΕΙΑ ΕΙΔΩΝ ΣΙΤΙΣΗΣ ΓΙΑ ΤΟ ΚΟΙΝΩΝΙΚΟ ΠΑΝΤΟΠΩΛΕΙΟ ΔΗΜΟΥ ΑΓΡΙΝΙΟΥ
A31: A/A | B31: ΤΜΗΜΑ | C31: ΚΑΘΑΡΟ ΠΟΣΟ | D31: ΕΓΓΥΗΣΗ ΚΑΛΗΣ ΕΚΤΕΛΕΣΗΣ
A32: 1 | B32: ΤΜΗΜΑ 1 : ΕΙΔΗ ΠΑΝΤΟΠΩΛΕΙΟΥ - CPV:15000000-8 | C32: ='ΑΝΑΛΥΤΙΚΟΣ ΠΙΝΑΚΑΣ'!H308 -> 0 | D32: =C32*4% -> 0
A33: 2 | B33: ΤΜΗΜΑ 2 : ΟΣΠΡΙΑ - CPV:15000000-8 | C33: ='ΑΝΑΛΥΤΙΚΟΣ ΠΙΝΑΚΑΣ'!H314 -> 0 | D33: =C33*4% -> 0
A34: 3 | B34: ΤΜΗΜΑ 3: ΕΙΔΗ ΚΡΕΟΠΩΛΕΙΟΥ - ΧΟΙΡΙΝΟ ΚΡΕΑΣ - CPV:15113000-3 | C34: ='ΑΝΑΛΥΤΙΚΟΣ ΠΙΝΑΚΑΣ'!H319 -> 100441.44 | D34: =C34*4% -> 4017.6576
A35: 4 | B35: ΤΜΗΜΑ 4: ΕΙΔΗ ΚΡΕΟΠΩΛΕΙΟΥ -ΝΩΠΟ ΚΡΕΑΣ ΑΡΝΙ - CPV:15115100-8 | C35: ='ΑΝΑΛΥΤΙΚΟΣ ΠΙΝΑΚΑΣ'!H323 -> 236466.6 | D35: =C35*4% -> 9458.664
A36: 5 | B36: ΤΜΗΜΑ 5: ΕΙΔΗ ΚΡΕΟΠΩΛΕΙΟΥ -ΚΟΤΟΠΟΥΛΟ ΝΩΠΟ - CPV:15112130-6 | C36: ='ΑΝΑΛΥΤΙΚΟΣ ΠΙΝΑΚΑΣ'!H327 -> 43200 | D36: =C36*4% -> 1728
B37: ΣΥΝΟΛΟ ΟΜΑΔΑΣ 4: | C37: =SUM(C32:C36) -> 380108.04 | D37: =SUM(D32:D36) -> 15204.322
A38: ΟΜΑΔΑ 5. ΠΡΟΜΗΘΕΙΑ ΤΡΟΦΙΜΩΝ ΓΙΑ ΤΗ ΔΙΟΡΓΑΝΩΣΗ ΕΚΔΗΛΩΣΕΩΝ (ΑΠΟΚΡΙΕΣ, ΚΟΥΛΟΥΜΑ , ΧΡΙΣΤΟΥΓΕΝΝΑ Κ.Λ.Π.)
A39: A/A | B39: TMHMA | C39: ΚΑΘΑΡΟ ΠΟΣΟ | D39: ΕΓΓΥΗΣΗ ΚΑΛΗΣ ΕΚΤΕΛΕΣΗΣ
A40: 1 | B40: ΤΜΗΜΑ 1: ΕΙΔΗ ΠΑΝΤΟΠΩΛΕΙΟΥ - CPV:15000000-8 | C40: ='ΑΝΑΛΥΤΙΚΟΣ ΠΙΝΑΚΑΣ'!H340 -> 0 | D40: =C40*4% -> 0
...
